BEGIN:VCALENDAR
VERSION:2.0
PRODID:-//TCST Group - ECPv4.6.11.1//NONSGML v1.0//EN
CALSCALE:GREGORIAN
METHOD:PUBLISH
X-WR-CALNAME:TCST Group
X-ORIGINAL-URL:https://www.tcstgroup.com.au
X-WR-CALDESC:Events for TCST Group
BEGIN:VEVENT
DTSTART;VALUE=DATE:20180301
DTEND;VALUE=DATE:20180302
DTSTAMP:20200229T175751
CREATED:20171113T081044Z
LAST-MODIFIED:20180116T213212Z
UID:7746-1519862400-1519948799@www.tcstgroup.com.au
SUMMARY:RIIVEH201D Operate Light Vehicle
DESCRIPTION: \n#cmsmasters_row_5e5aa61f4e944 .cmsmasters_row_outer_parent { \n	padding-top: 0px; \n} \n\n#cmsmasters_row_5e5aa61f4e944 .cmsmasters_row_outer_parent { \n	padding-bottom: 50px; \n} \n\n \n#cmsmasters_icon_box_5e5aa61f4ebfe { \n	border-width:1px; \n	background-color:#fcfcfc;\n	border-color:#e4e4e4;\n} \n\n#cmsmasters_icon_box_5e5aa61f4ebfe:before\, \n#cmsmasters_icon_box_5e5aa61f4ebfe .icon_box_heading:before { \n	font-size:30px; \n	line-height:50px; \n	width:50px; \n	height:50px; \n	border-width:0px; \n	-webkit-border-radius:50%; \n	border-radius:50%; \n} \n\n#cmsmasters_icon_box_5e5aa61f4ebfe.cmsmasters_icon_heading_left\, \n#cmsmasters_icon_box_5e5aa61f4ebfe.cmsmasters_icon_top\, \n#cmsmasters_icon_box_5e5aa61f4ebfe.cmsmasters_icon_box_left_top { \n	padding:30px 20px; } \n\n#cmsmasters_icon_box_5e5aa61f4ebfe.cmsmasters_icon_top:before { \n	top:30px;} \n\n \n#cmsmasters_icon_box_5e5aa61f4ef82 { \n	border-width:1px; \n	color:#000000;\n	background-color:#fcfcfc;\n	border-color:#e4e4e4;\n} \n\n#cmsmasters_icon_box_5e5aa61f4ef82:before\, \n#cmsmasters_icon_box_5e5aa61f4ef82 .icon_box_heading:before { \n	font-size:30px; \n	line-height:50px; \n	width:50px; \n	height:50px; \n	border-width:0px; \n	-webkit-border-radius:50%; \n	border-radius:50%; \n} \n\n#cmsmasters_icon_box_5e5aa61f4ef82.cmsmasters_icon_heading_left\, \n#cmsmasters_icon_box_5e5aa61f4ef82.cmsmasters_icon_top\, \n#cmsmasters_icon_box_5e5aa61f4ef82.cmsmasters_icon_box_left_top { \n	padding:30px 20px; } \n\n#cmsmasters_icon_box_5e5aa61f4ef82.cmsmasters_icon_top:before { \n	top:30px;} \n\n#cmsmasters_icon_box_5e5aa61f4ef82 a:not(.cmsmasters_button)\, \n#cmsmasters_icon_box_5e5aa61f4ef82 a:not(.cmsmasters_button):hover\, \n#cmsmasters_icon_box_5e5aa61f4ef82 h1\, \n#cmsmasters_icon_box_5e5aa61f4ef82 h2\, \n#cmsmasters_icon_box_5e5aa61f4ef82 h3\, \n#cmsmasters_icon_box_5e5aa61f4ef82 h4\, \n#cmsmasters_icon_box_5e5aa61f4ef82 h5\, \n#cmsmasters_icon_box_5e5aa61f4ef82 h6 { \n	color:#000000;} \n\n#cmsmasters_icon_box_5e5aa61f4ef82 a:not(.cmsmasters_button) { \n\n	text-decoration:underline;} \n\n#cmsmasters_icon_box_5e5aa61f4ef82 a:not(.cmsmasters_button):hover { \n\n	text-decoration:none;} \n\n \n#cmsmasters_row_5e5aa61f4f1c0 .cmsmasters_row_outer_parent { \n	padding-top: 0px; \n} \n\n#cmsmasters_row_5e5aa61f4f1c0 .cmsmasters_row_outer_parent { \n	padding-bottom: 50px; \n} \n\n\n\n\n\n\n\n\n\n\nCOURSE DESCRIPTION\n\nThis course describes a participant’s skills and knowledge required to operate a light vehicle in the Resources and Infrastructure Industries.This course is appropriate for those working in operational roles. Licensing\, legislative\, regulatory and certification requirements that apply to this unit can vary between states\, territories\, and Industry sectors. \n\n\n\n\n\n\n\n\nDetails\n\nDate: Coming in 2018\nCourse Duration: 10 hours\nClass Size: 10 maximum\nCost is subject to demand and location. Please email us at enquires@tcstgroup.com.au for individualised pricing. \n\n\n\n\n\n\n\n\n\n\n\n\n\n\n\n\n\n\n\n\n\n\nRegister your interest in this course\n\n\n\n\n\n\n\n\n\n\n\n\n\n Your Name (required)\n      \n Your Email (required)\n      \nContact Number \n Subject\n      \n Your Message\n      \n\n\n	\n		\n			\n				\n				\n			\n			\n				\n				\n			\n		\n	\n\n\n \n\n\n\n\n\n\n\n\n\n\n\n\n\n
URL:https://www.tcstgroup.com.au/calendar/riiveh201d-operate-light-vehicle/
END:VEVENT
END:VCALENDAR