BEGIN:VCALENDAR
VERSION:2.0
PRODID:-//TCST Group - ECPv4.6.11.1//NONSGML v1.0//EN
CALSCALE:GREGORIAN
METHOD:PUBLISH
X-WR-CALNAME:TCST Group
X-ORIGINAL-URL:https://www.tcstgroup.com.au
X-WR-CALDESC:Events for TCST Group
BEGIN:VEVENT
DTSTART;VALUE=DATE:20180301
DTEND;VALUE=DATE:20180302
DTSTAMP:20200229T175709
CREATED:20171113T080834Z
LAST-MODIFIED:20180116T213257Z
UID:7744-1519862400-1519948799@www.tcstgroup.com.au
SUMMARY:TLIC 4006 Drive Multi Combination Vehicle
DESCRIPTION: \n#cmsmasters_row_5e5aa5f5ee912 .cmsmasters_row_outer_parent { \n	padding-top: 0px; \n} \n\n#cmsmasters_row_5e5aa5f5ee912 .cmsmasters_row_outer_parent { \n	padding-bottom: 50px; \n} \n\n \n#cmsmasters_icon_box_5e5aa5f5eece6 { \n	border-width:1px; \n	background-color:#fcfcfc;\n	border-color:#e4e4e4;\n} \n\n#cmsmasters_icon_box_5e5aa5f5eece6:before\, \n#cmsmasters_icon_box_5e5aa5f5eece6 .icon_box_heading:before { \n	font-size:30px; \n	line-height:50px; \n	width:50px; \n	height:50px; \n	border-width:0px; \n	-webkit-border-radius:50%; \n	border-radius:50%; \n} \n\n#cmsmasters_icon_box_5e5aa5f5eece6.cmsmasters_icon_heading_left\, \n#cmsmasters_icon_box_5e5aa5f5eece6.cmsmasters_icon_top\, \n#cmsmasters_icon_box_5e5aa5f5eece6.cmsmasters_icon_box_left_top { \n	padding:30px 20px; } \n\n#cmsmasters_icon_box_5e5aa5f5eece6.cmsmasters_icon_top:before { \n	top:30px;} \n\n \n#cmsmasters_icon_box_5e5aa5f5ef138 { \n	border-width:1px; \n	color:#000000;\n	background-color:#fcfcfc;\n	border-color:#e4e4e4;\n} \n\n#cmsmasters_icon_box_5e5aa5f5ef138:before\, \n#cmsmasters_icon_box_5e5aa5f5ef138 .icon_box_heading:before { \n	font-size:30px; \n	line-height:50px; \n	width:50px; \n	height:50px; \n	border-width:0px; \n	-webkit-border-radius:50%; \n	border-radius:50%; \n} \n\n#cmsmasters_icon_box_5e5aa5f5ef138.cmsmasters_icon_heading_left\, \n#cmsmasters_icon_box_5e5aa5f5ef138.cmsmasters_icon_top\, \n#cmsmasters_icon_box_5e5aa5f5ef138.cmsmasters_icon_box_left_top { \n	padding:30px 20px; } \n\n#cmsmasters_icon_box_5e5aa5f5ef138.cmsmasters_icon_top:before { \n	top:30px;} \n\n#cmsmasters_icon_box_5e5aa5f5ef138 a:not(.cmsmasters_button)\, \n#cmsmasters_icon_box_5e5aa5f5ef138 a:not(.cmsmasters_button):hover\, \n#cmsmasters_icon_box_5e5aa5f5ef138 h1\, \n#cmsmasters_icon_box_5e5aa5f5ef138 h2\, \n#cmsmasters_icon_box_5e5aa5f5ef138 h3\, \n#cmsmasters_icon_box_5e5aa5f5ef138 h4\, \n#cmsmasters_icon_box_5e5aa5f5ef138 h5\, \n#cmsmasters_icon_box_5e5aa5f5ef138 h6 { \n	color:#000000;} \n\n#cmsmasters_icon_box_5e5aa5f5ef138 a:not(.cmsmasters_button) { \n\n	text-decoration:underline;} \n\n#cmsmasters_icon_box_5e5aa5f5ef138 a:not(.cmsmasters_button):hover { \n\n	text-decoration:none;} \n\n \n#cmsmasters_row_5e5aa5f5ef3af .cmsmasters_row_outer_parent { \n	padding-top: 0px; \n} \n\n#cmsmasters_row_5e5aa5f5ef3af .cmsmasters_row_outer_parent { \n	padding-bottom: 50px; \n} \n\n\n\n\n\n\n\n\n\n\nCOURSE DESCRIPTION\n\nThis course provides the skills and knowledge required to drive a multi-combination vehicle safely\, including systematic and efficient control of all vehicle functions\, coupling and uncoupling of dollies\, monitoring of traffic and road conditions\, management of vehicle condition and performance\, and effective management of hazardous situations. \nAssessment of this unit may be undertaken within a licensing examination conducted by\, or under the authority of\, the relevant state/territory Road Traffic Authority. \n\n\n\n\n\n\n\n\nDetails\n\nDate: Coming in 2018\nCourse Duration: 9 hours\nClass Size: 1 maximum\nCost is subject to demand and location. Please email us at enquires@tcstgroup.com.au for individualised pricing. \n\n\n\n\n\n\n\n\n\n\n\n\n\n\n\n\n\n\n\n\n\n\nRegister your interest in this course\n\n\n\n\n\n\n\n\n\n\n\n\n\n Your Name (required)\n      \n Your Email (required)\n      \nContact Number \n Subject\n      \n Your Message\n      \n\n\n	\n		\n			\n				\n				\n			\n			\n				\n				\n			\n		\n	\n\n\n \n\n\n\n\n\n\n\n\n\n\n\n\n\n
URL:https://www.tcstgroup.com.au/calendar/tlic-4006-drive-multi-combination-vehicle/
END:VEVENT
END:VCALENDAR