BEGIN:VCALENDAR
VERSION:2.0
PRODID:-//TCST Group - ECPv4.6.11.1//NONSGML v1.0//EN
CALSCALE:GREGORIAN
METHOD:PUBLISH
X-WR-CALNAME:TCST Group
X-ORIGINAL-URL:https://www.tcstgroup.com.au
X-WR-CALDESC:Events for TCST Group
BEGIN:VEVENT
DTSTART;TZID=Australia/Brisbane:20180301T000000
DTEND;TZID=Australia/Brisbane:20180301T000000
DTSTAMP:20200229T180352
CREATED:20171108T022940Z
LAST-MODIFIED:20180116T213735Z
UID:7670-1519862400-1519862400@www.tcstgroup.com.au
SUMMARY:TLIF 0001 Apply COR Legislation General Staff
DESCRIPTION: \n#cmsmasters_row_5e5aa788d5852 .cmsmasters_row_outer_parent { \n	padding-top: 0px; \n} \n\n#cmsmasters_row_5e5aa788d5852 .cmsmasters_row_outer_parent { \n	padding-bottom: 50px; \n} \n\n \n#cmsmasters_icon_box_5e5aa788d5c7c { \n	border-width:1px; \n	background-color:#fcfcfc;\n	border-color:#e4e4e4;\n} \n\n#cmsmasters_icon_box_5e5aa788d5c7c:before\, \n#cmsmasters_icon_box_5e5aa788d5c7c .icon_box_heading:before { \n	font-size:30px; \n	line-height:50px; \n	width:50px; \n	height:50px; \n	border-width:0px; \n	-webkit-border-radius:50%; \n	border-radius:50%; \n} \n\n#cmsmasters_icon_box_5e5aa788d5c7c.cmsmasters_icon_heading_left\, \n#cmsmasters_icon_box_5e5aa788d5c7c.cmsmasters_icon_top\, \n#cmsmasters_icon_box_5e5aa788d5c7c.cmsmasters_icon_box_left_top { \n	padding:30px 20px; } \n\n#cmsmasters_icon_box_5e5aa788d5c7c.cmsmasters_icon_top:before { \n	top:30px;} \n\n \n#cmsmasters_icon_box_5e5aa788d621a { \n	border-width:1px; \n	color:#000000;\n	background-color:#fcfcfc;\n	border-color:#e4e4e4;\n} \n\n#cmsmasters_icon_box_5e5aa788d621a:before\, \n#cmsmasters_icon_box_5e5aa788d621a .icon_box_heading:before { \n	font-size:30px; \n	line-height:50px; \n	width:50px; \n	height:50px; \n	border-width:0px; \n	-webkit-border-radius:50%; \n	border-radius:50%; \n} \n\n#cmsmasters_icon_box_5e5aa788d621a.cmsmasters_icon_heading_left\, \n#cmsmasters_icon_box_5e5aa788d621a.cmsmasters_icon_top\, \n#cmsmasters_icon_box_5e5aa788d621a.cmsmasters_icon_box_left_top { \n	padding:30px 20px; } \n\n#cmsmasters_icon_box_5e5aa788d621a.cmsmasters_icon_top:before { \n	top:30px;} \n\n#cmsmasters_icon_box_5e5aa788d621a a:not(.cmsmasters_button)\, \n#cmsmasters_icon_box_5e5aa788d621a a:not(.cmsmasters_button):hover\, \n#cmsmasters_icon_box_5e5aa788d621a h1\, \n#cmsmasters_icon_box_5e5aa788d621a h2\, \n#cmsmasters_icon_box_5e5aa788d621a h3\, \n#cmsmasters_icon_box_5e5aa788d621a h4\, \n#cmsmasters_icon_box_5e5aa788d621a h5\, \n#cmsmasters_icon_box_5e5aa788d621a h6 { \n	color:#000000;} \n\n#cmsmasters_icon_box_5e5aa788d621a a:not(.cmsmasters_button) { \n\n	text-decoration:underline;} \n\n#cmsmasters_icon_box_5e5aa788d621a a:not(.cmsmasters_button):hover { \n\n	text-decoration:none;} \n\n \n#cmsmasters_row_5e5aa788d6538 .cmsmasters_row_outer_parent { \n	padding-top: 0px; \n} \n\n#cmsmasters_row_5e5aa788d6538 .cmsmasters_row_outer_parent { \n	padding-bottom: 50px; \n} \n\n\n\n\n\n\n\n\n\n\nCOURSE DESCRIPTION\n\nThis course provides the skills and knowledge required to identify\, apply and follow chain of responsibility legislation\, regulations and workplace procedures in relation to heavy vehicles as they apply to an individual’s own job role within the supply chain. \n\n\n\n\n\n\n\n\nDetails\n\nDate: Coming in 2018\nCourse Duration: 4 to 6 hours\nClass Size: 5 maximum\nCost is subject to demand and location. Please contact us for individualised pricing. \n\n\n\n\n\n\n\n\n\n\n\n\n\n\n\n\n\n\n\n\n\n\nRegister your interest in this course\n\n\n\n\n\n\n\n\n\n\n\n\n\n Your Name (required)\n      \n Your Email (required)\n      \nContact Number \n Subject\n      \n Your Message\n      \n\n\n	\n		\n			\n				\n				\n			\n			\n				\n				\n			\n		\n	\n\n\n \n\n\n\n\n\n\n\n\n\n\n\n\n\n
URL:https://www.tcstgroup.com.au/calendar/tlif-0001/
END:VEVENT
END:VCALENDAR