BEGIN:VCALENDAR
VERSION:2.0
PRODID:-//TCST Group - ECPv4.6.11.1//NONSGML v1.0//EN
CALSCALE:GREGORIAN
METHOD:PUBLISH
X-WR-CALNAME:TCST Group
X-ORIGINAL-URL:https://www.tcstgroup.com.au
X-WR-CALDESC:Events for TCST Group
BEGIN:VEVENT
DTSTART;TZID=Australia/Brisbane:20180301T000000
DTEND;TZID=Australia/Brisbane:20180301T000000
DTSTAMP:20200229T175511
CREATED:20171108T060532Z
LAST-MODIFIED:20180116T213617Z
UID:7708-1519862400-1519862400@www.tcstgroup.com.au
SUMMARY:TLIF 0003 Develop & Implement Policy & Procedure to ensure COR compliance CEO Directors
DESCRIPTION: \n#cmsmasters_row_5e5aa57f975c1 .cmsmasters_row_outer_parent { \n	padding-top: 0px; \n} \n\n#cmsmasters_row_5e5aa57f975c1 .cmsmasters_row_outer_parent { \n	padding-bottom: 50px; \n} \n\n \n#cmsmasters_icon_box_5e5aa57f978fc { \n	border-width:1px; \n	background-color:#fcfcfc;\n	border-color:#e4e4e4;\n} \n\n#cmsmasters_icon_box_5e5aa57f978fc:before\, \n#cmsmasters_icon_box_5e5aa57f978fc .icon_box_heading:before { \n	font-size:30px; \n	line-height:50px; \n	width:50px; \n	height:50px; \n	border-width:0px; \n	-webkit-border-radius:50%; \n	border-radius:50%; \n} \n\n#cmsmasters_icon_box_5e5aa57f978fc.cmsmasters_icon_heading_left\, \n#cmsmasters_icon_box_5e5aa57f978fc.cmsmasters_icon_top\, \n#cmsmasters_icon_box_5e5aa57f978fc.cmsmasters_icon_box_left_top { \n	padding:30px 20px; } \n\n#cmsmasters_icon_box_5e5aa57f978fc.cmsmasters_icon_top:before { \n	top:30px;} \n\n \n#cmsmasters_icon_box_5e5aa57f97d4c { \n	border-width:1px; \n	color:#000000;\n	background-color:#fcfcfc;\n	border-color:#e4e4e4;\n} \n\n#cmsmasters_icon_box_5e5aa57f97d4c:before\, \n#cmsmasters_icon_box_5e5aa57f97d4c .icon_box_heading:before { \n	font-size:30px; \n	line-height:50px; \n	width:50px; \n	height:50px; \n	border-width:0px; \n	-webkit-border-radius:50%; \n	border-radius:50%; \n} \n\n#cmsmasters_icon_box_5e5aa57f97d4c.cmsmasters_icon_heading_left\, \n#cmsmasters_icon_box_5e5aa57f97d4c.cmsmasters_icon_top\, \n#cmsmasters_icon_box_5e5aa57f97d4c.cmsmasters_icon_box_left_top { \n	padding:30px 20px; } \n\n#cmsmasters_icon_box_5e5aa57f97d4c.cmsmasters_icon_top:before { \n	top:30px;} \n\n#cmsmasters_icon_box_5e5aa57f97d4c a:not(.cmsmasters_button)\, \n#cmsmasters_icon_box_5e5aa57f97d4c a:not(.cmsmasters_button):hover\, \n#cmsmasters_icon_box_5e5aa57f97d4c h1\, \n#cmsmasters_icon_box_5e5aa57f97d4c h2\, \n#cmsmasters_icon_box_5e5aa57f97d4c h3\, \n#cmsmasters_icon_box_5e5aa57f97d4c h4\, \n#cmsmasters_icon_box_5e5aa57f97d4c h5\, \n#cmsmasters_icon_box_5e5aa57f97d4c h6 { \n	color:#000000;} \n\n#cmsmasters_icon_box_5e5aa57f97d4c a:not(.cmsmasters_button) { \n\n	text-decoration:underline;} \n\n#cmsmasters_icon_box_5e5aa57f97d4c a:not(.cmsmasters_button):hover { \n\n	text-decoration:none;} \n\n \n#cmsmasters_row_5e5aa57f97fc6 .cmsmasters_row_outer_parent { \n	padding-top: 0px; \n} \n\n#cmsmasters_row_5e5aa57f97fc6 .cmsmasters_row_outer_parent { \n	padding-bottom: 50px; \n} \n\n\n\n\n\n\n\n\n\n\nCOURSE DESCRIPTION\n\nThis course provides participants with the knowledge and skills to develop and implement policies and procedures to administer Chain of Responsibility compliance within their organisation. This course is designed for Senior Managers\, Decision & Policy Makers. \n  \n\n\n\n\n\n\n\n\nDetails\n\nDate: Coming in 2018\nCourse Duration: 8 to 10 hours\nClass Size: 3 maximum\nCost is subject to demand and location. Please contact us on 0400 780 750 for individualised pricing. \n\n\n\n\n\n\n\n\n\n\n\n\n\n\n\n\n\n\n\n\n\n\nRegister your interest in this course\n\n\n\n\n\n\n\n\n\n\n\n\n\n Your Name (required)\n      \n Your Email (required)\n      \nContact Number \n Subject\n      \n Your Message\n      \n\n\n	\n		\n			\n				\n				\n			\n			\n				\n				\n			\n		\n	\n\n\n \n\n\n\n\n\n\n\n\n\n\n\n\n\n
URL:https://www.tcstgroup.com.au/calendar/tlif-0003/
END:VEVENT
END:VCALENDAR