BEGIN:VCALENDAR
VERSION:2.0
PRODID:-//TCST Group - ECPv4.6.11.1//NONSGML v1.0//EN
CALSCALE:GREGORIAN
METHOD:PUBLISH
X-WR-CALNAME:TCST Group
X-ORIGINAL-URL:https://www.tcstgroup.com.au
X-WR-CALDESC:Events for TCST Group
BEGIN:VEVENT
DTSTART;VALUE=DATE:20180301
DTEND;VALUE=DATE:20180302
DTSTAMP:20200229T175531
CREATED:20171108T060645Z
LAST-MODIFIED:20180116T215906Z
UID:7710-1519862400-1519948799@www.tcstgroup.com.au
SUMMARY:TLIF 2010 Apply Fatigue Management Strategies
DESCRIPTION: \n#cmsmasters_row_5e5aa5933b2ae .cmsmasters_row_outer_parent { \n	padding-top: 0px; \n} \n\n#cmsmasters_row_5e5aa5933b2ae .cmsmasters_row_outer_parent { \n	padding-bottom: 50px; \n} \n\n \n#cmsmasters_icon_box_5e5aa5933b939 { \n	border-width:1px; \n	background-color:#fcfcfc;\n	border-color:#e4e4e4;\n} \n\n#cmsmasters_icon_box_5e5aa5933b939:before\, \n#cmsmasters_icon_box_5e5aa5933b939 .icon_box_heading:before { \n	font-size:30px; \n	line-height:50px; \n	width:50px; \n	height:50px; \n	border-width:0px; \n	-webkit-border-radius:50%; \n	border-radius:50%; \n} \n\n#cmsmasters_icon_box_5e5aa5933b939.cmsmasters_icon_heading_left\, \n#cmsmasters_icon_box_5e5aa5933b939.cmsmasters_icon_top\, \n#cmsmasters_icon_box_5e5aa5933b939.cmsmasters_icon_box_left_top { \n	padding:30px 20px; } \n\n#cmsmasters_icon_box_5e5aa5933b939.cmsmasters_icon_top:before { \n	top:30px;} \n\n \n#cmsmasters_icon_box_5e5aa5933c172 { \n	border-width:1px; \n	color:#000000;\n	background-color:#fcfcfc;\n	border-color:#e4e4e4;\n} \n\n#cmsmasters_icon_box_5e5aa5933c172:before\, \n#cmsmasters_icon_box_5e5aa5933c172 .icon_box_heading:before { \n	font-size:30px; \n	line-height:50px; \n	width:50px; \n	height:50px; \n	border-width:0px; \n	-webkit-border-radius:50%; \n	border-radius:50%; \n} \n\n#cmsmasters_icon_box_5e5aa5933c172.cmsmasters_icon_heading_left\, \n#cmsmasters_icon_box_5e5aa5933c172.cmsmasters_icon_top\, \n#cmsmasters_icon_box_5e5aa5933c172.cmsmasters_icon_box_left_top { \n	padding:30px 20px; } \n\n#cmsmasters_icon_box_5e5aa5933c172.cmsmasters_icon_top:before { \n	top:30px;} \n\n#cmsmasters_icon_box_5e5aa5933c172 a:not(.cmsmasters_button)\, \n#cmsmasters_icon_box_5e5aa5933c172 a:not(.cmsmasters_button):hover\, \n#cmsmasters_icon_box_5e5aa5933c172 h1\, \n#cmsmasters_icon_box_5e5aa5933c172 h2\, \n#cmsmasters_icon_box_5e5aa5933c172 h3\, \n#cmsmasters_icon_box_5e5aa5933c172 h4\, \n#cmsmasters_icon_box_5e5aa5933c172 h5\, \n#cmsmasters_icon_box_5e5aa5933c172 h6 { \n	color:#000000;} \n\n#cmsmasters_icon_box_5e5aa5933c172 a:not(.cmsmasters_button) { \n\n	text-decoration:underline;} \n\n#cmsmasters_icon_box_5e5aa5933c172 a:not(.cmsmasters_button):hover { \n\n	text-decoration:none;} \n\n \n#cmsmasters_row_5e5aa5933c4d7 .cmsmasters_row_outer_parent { \n	padding-top: 0px; \n} \n\n#cmsmasters_row_5e5aa5933c4d7 .cmsmasters_row_outer_parent { \n	padding-bottom: 50px; \n} \n\n\n\n\n\n\n\n\n\n\nCOURSE DESCRIPTION\n\nThis course provides the skills and knowledge required to apply fatigue management strategies within the transport and logistics industry. Work is undertaken in compliance with relevant legislation\, regulations\, codes and guidelines. It includes identifying and acting on signs of fatigue and implementing appropriate strategies to minimise fatigue during work activities. \n\n\n\n\n\n\n\n\nDetails\n\nDate: Coming in 2018\nCourse Duration: 3 hours\nClass Size: 5 maximum\nCost is subject to demand and location. Please contact us on 0400 780 750 for individualised pricing. \n\n\n\n\n\n\n\n\n\n\n\n\n\n\n\n\n\n\n\n\n\n\nRegister your interest in this course\n\n\n\n\n\n\n\n\n\n\n\n\n\n Your Name (required)\n      \n Your Email (required)\n      \nContact Number \n Subject\n      \n Your Message\n      \n\n\n	\n		\n			\n				\n				\n			\n			\n				\n				\n			\n		\n	\n\n\n \n\n\n\n\n\n\n\n\n\n\n\n\n\n
URL:https://www.tcstgroup.com.au/calendar/tlif-2010/
END:VEVENT
END:VCALENDAR