BEGIN:VCALENDAR
VERSION:2.0
PRODID:-//TCST Group - ECPv4.6.11.1//NONSGML v1.0//EN
CALSCALE:GREGORIAN
METHOD:PUBLISH
X-WR-CALNAME:TCST Group
X-ORIGINAL-URL:https://www.tcstgroup.com.au
X-WR-CALDESC:Events for TCST Group
BEGIN:VEVENT
DTSTART;VALUE=DATE:20180301
DTEND;VALUE=DATE:20180302
DTSTAMP:20200229T175729
CREATED:20171113T080623Z
LAST-MODIFIED:20180116T213343Z
UID:7742-1519862400-1519948799@www.tcstgroup.com.au
SUMMARY:TLILIC 0001 Licence to Transport DG by Road
DESCRIPTION: \n#cmsmasters_row_5e5aa609431b6 .cmsmasters_row_outer_parent { \n	padding-top: 0px; \n} \n\n#cmsmasters_row_5e5aa609431b6 .cmsmasters_row_outer_parent { \n	padding-bottom: 50px; \n} \n\n \n#cmsmasters_icon_box_5e5aa60943831 { \n	border-width:1px; \n	background-color:#fcfcfc;\n	border-color:#e4e4e4;\n} \n\n#cmsmasters_icon_box_5e5aa60943831:before\, \n#cmsmasters_icon_box_5e5aa60943831 .icon_box_heading:before { \n	font-size:30px; \n	line-height:50px; \n	width:50px; \n	height:50px; \n	border-width:0px; \n	-webkit-border-radius:50%; \n	border-radius:50%; \n} \n\n#cmsmasters_icon_box_5e5aa60943831.cmsmasters_icon_heading_left\, \n#cmsmasters_icon_box_5e5aa60943831.cmsmasters_icon_top\, \n#cmsmasters_icon_box_5e5aa60943831.cmsmasters_icon_box_left_top { \n	padding:30px 20px; } \n\n#cmsmasters_icon_box_5e5aa60943831.cmsmasters_icon_top:before { \n	top:30px;} \n\n \n#cmsmasters_icon_box_5e5aa60943fba { \n	border-width:1px; \n	color:#000000;\n	background-color:#fcfcfc;\n	border-color:#e4e4e4;\n} \n\n#cmsmasters_icon_box_5e5aa60943fba:before\, \n#cmsmasters_icon_box_5e5aa60943fba .icon_box_heading:before { \n	font-size:30px; \n	line-height:50px; \n	width:50px; \n	height:50px; \n	border-width:0px; \n	-webkit-border-radius:50%; \n	border-radius:50%; \n} \n\n#cmsmasters_icon_box_5e5aa60943fba.cmsmasters_icon_heading_left\, \n#cmsmasters_icon_box_5e5aa60943fba.cmsmasters_icon_top\, \n#cmsmasters_icon_box_5e5aa60943fba.cmsmasters_icon_box_left_top { \n	padding:30px 20px; } \n\n#cmsmasters_icon_box_5e5aa60943fba.cmsmasters_icon_top:before { \n	top:30px;} \n\n#cmsmasters_icon_box_5e5aa60943fba a:not(.cmsmasters_button)\, \n#cmsmasters_icon_box_5e5aa60943fba a:not(.cmsmasters_button):hover\, \n#cmsmasters_icon_box_5e5aa60943fba h1\, \n#cmsmasters_icon_box_5e5aa60943fba h2\, \n#cmsmasters_icon_box_5e5aa60943fba h3\, \n#cmsmasters_icon_box_5e5aa60943fba h4\, \n#cmsmasters_icon_box_5e5aa60943fba h5\, \n#cmsmasters_icon_box_5e5aa60943fba h6 { \n	color:#000000;} \n\n#cmsmasters_icon_box_5e5aa60943fba a:not(.cmsmasters_button) { \n\n	text-decoration:underline;} \n\n#cmsmasters_icon_box_5e5aa60943fba a:not(.cmsmasters_button):hover { \n\n	text-decoration:none;} \n\n \n#cmsmasters_row_5e5aa60944352 .cmsmasters_row_outer_parent { \n	padding-top: 0px; \n} \n\n#cmsmasters_row_5e5aa60944352 .cmsmasters_row_outer_parent { \n	padding-bottom: 50px; \n} \n\n\n\n\n\n\n\n\n\n\nCOURSE DESCRIPTION\n\n\n\n\nThis course provides the skills and knowledge required to obtain a dangerous goods (DG) driver licence to transport DG by road. The course covers compliance with regulatory requirements but does not address all the skills and knowledge for the transportation of DG. On achieving this unit and obtaining a licence\, further industry specific training will be required to satisfy legislative requirements to transport DG. \nAchieving this unit of competency is a necessary requirement for obtaining a licence. However\, it is only one of several criteria for obtaining a DG driver licence. More information can be sourced from the regulator in each jurisdiction regarding other criteria that apply\, which can vary between states and territories. \nCompliance with these requirements may be required nationally and/or in specific jurisdictions.\n\n\n\n\n\n\n\n\n\n\n\nDetails\n\nDate: Coming in 2018\nCourse Duration: 16 hours\nClass Size: 10 maximum\nCost is subject to demand and location. Please email us at enquires@tcstgroup.com.au for individualised pricing. \n\n\n\n\n\n\n\n\n\n\n\n\n\n\n\n\n\n\n\n\n\n\nRegister your interest in this course\n\n\n\n\n\n\n\n\n\n\n\n\n\n Your Name (required)\n      \n Your Email (required)\n      \nContact Number \n Subject\n      \n Your Message\n      \n\n\n	\n		\n			\n				\n				\n			\n			\n				\n				\n			\n		\n	\n\n\n \n\n\n\n\n\n\n\n\n\n\n\n\n\n
URL:https://www.tcstgroup.com.au/calendar/tlilic-0001-licence-transport-dg-road/
END:VEVENT
END:VCALENDAR